BEGIN:VCALENDAR
PRODID:-//github.com/rianjs/ical.net//NONSGML ical.net 4.0//EN
VERSION:2.0
BEGIN:VTIMEZONE
TZID:Eastern Standard Time
X-LIC-LOCATION:America/New_York
BEGIN:STANDARD
DTSTART:20241103T020000
RRULE:FREQ=YEARLY;BYDAY=1SU;BYMONTH=11
TZNAME:EST
TZOFFSETFROM:-0400
TZOFFSETTO:-0500
END:STANDARD
BEGIN:DAYLIGHT
DTSTART:20250309T020000
RRULE:FREQ=YEARLY;BYDAY=2SU;BYMONTH=3
TZNAME:EDT
TZOFFSETFROM:-0500
TZOFFSETTO:-0400
END:DAYLIGHT
END:VTIMEZONE
BEGIN:VEVENT
DTEND;TZID=Eastern Standard Time:20260723T123000
DTSTAMP:20260420T215745Z
DTSTART;TZID=Eastern Standard Time:20260723T090000
LOCATION:St. Mary's Early Childhood Center (Gilliatte Building) 9230 Hawki
 ns Road Indianapolis\, IN 46216-1017 United States
ORGANIZER;CN=;SENT-BY="mailto:":
SEQUENCE:0
SUMMARY:BOMA Indiana: St. Mary's Playground Cleanup Volunteer Event
UID:9387244f-1d30-4bf4-8fa9-c7754916de9c
END:VEVENT
END:VCALENDAR
